Workbook

Sheet 日次残業
A1: 今すぐクリックして､無登録でゲット｡雛形の無料ダウンロード
B2: 日次残業記録表
B3: 部署 | E3: ○○部 | H3: 月の上限（時間外） | J3: 45 | K3: 時間 | L3: 注意ライン超え
B4: 対象年月 | E4: 46296 | H4: 注意ライン（累計） | J4: 30 | K4: 時間 | L4: 月の上限超え
B5: 法定休日 | E5: 日 | K5: 法定休日 | L5: 法定休日の労働
B7: その日の残業時間（法定外の時間外労働）を「1.5」のように時間単位で入力します（30分＝0.5）。法定休日の行に入れた時間は「休日」として集計されます。
B8: セルの色：累計の時間外が注意ラインを超えた日は黄色、月の上限を超えた日は赤になります。
B10: 日付 | C10: 曜日 | D10: 法定 休日 | E10: 山田 | F10: 佐藤 | G10: 鈴木 | H10: 高橋 | I10: 田中 | J10: 伊藤 | K10: 日計 | L10: メモ
E11: 営業課 | F11: 営業課 | G11: 開発課 | H11: 開発課 | I11: 総務課 | J11: 総務課
E12: 残業(h) | F12: 残業(h) | G12: 残業(h) | H12: 残業(h) | I12: 残業(h) | J12: 残業(h)
B13: =IF(MONTH(DATE(YEAR($E$4),MONTH($E$4),1)+0)=MONTH($E$4),DATE(YEAR($E$4),MONTH($E$4),1)+0,"") -> 46296 | C13: =IF(B13="","",IF(COUNTIF(祝日!$B$5:$B$60,B13)>0,"祝",CHOOSE(WEEKDAY(B13),"日","月","火","水","木","金","土"))) -> 木 | D13: =IF(B13="","",IF(CHOOSE(WEEKDAY(B13),"日","月","火","水","木","金","土")=$E$5,"○","")) | E13: 1 | F13: 1.5 | G13: 3 | H13: 1.5 | I13: 0.5 | J13: 1 | K13: =IF(SUM(E13:J13)=0,"",SUM(E13:J13)) -> 8.5
B14: =IF(MONTH(DATE(YEAR($E$4),MONTH($E$4),1)+1)=MONTH($E$4),DATE(YEAR($E$4),MONTH($E$4),1)+1,"") -> 46297 | C14: =IF(B14="","",IF(COUNTIF(祝日!$B$5:$B$60,B14)>0,"祝",CHOOSE(WEEKDAY(B14),"日","月","火","水","木","金","土"))) -> 金 | D14: =IF(B14="","",IF(CHOOSE(WEEKDAY(B14),"日","月","火","水","木","金","土")=$E$5,"○","")) | E14: 0.5 | F14: 2 | G14: 2 | H14: 2.5 | J14: 0.5 | K14: =IF(SUM(E14:J14)=0,"",SUM(E14:J14)) -> 7.5
B15: =IF(MONTH(DATE(YEAR($E$4),MONTH($E$4),1)+2)=MONTH($E$4),DATE(YEAR($E$4),MONTH($E$4),1)+2,"") -> 46298 | C15: =IF(B15="","",IF(COUNTIF(祝日!$B$5:$B$60,B15)>0,"祝",CHOOSE(WEEKDAY(B15),"日","月","火","水","木","金","土"))) -> 土 | D15: =IF(B15="","",IF(CHOOSE(WEEKDAY(B15),"日","月","火","水","木","金","土")=$E$5,"○","")) | K15: =IF(SUM(E15:J15)=0,"",SUM(E15:J15))
B16: =IF(MONTH(DATE(YEAR($E$4),MONTH($E$4),1)+3)=MONTH($E$4),DATE(YEAR($E$4),MONTH($E$4),1)+3,"") -> 46299 | C16: =IF(B16="","",IF(COUNTIF(祝日!$B$5:$B$60,B16)>0,"祝",CHOOSE(WEEKDAY(B16),"日","月","火","水","木","金","土"))) -> 日 | D16: =IF(B16="","",IF(CHOOSE(WEEKDAY(B16),"日","月","火","水","木","金","土")=$E$5,"○","")) -> ○ | K16: =IF(SUM(E16:J16)=0,"",SUM(E16:J16))
B17: =IF(MONTH(DATE(YEAR($E$4),MONTH($E$4),1)+4)=MONTH($E$4),DATE(YEAR($E$4),MONTH($E$4),1)+4,"") -> 46300 | C17: =IF(B17="","",IF(COUNTIF(祝日!$B$5:$B$60,B17)>0,"祝",CHOOSE(WEEKDAY(B17),"日","月","火","水","木","金","土"))) -> 月 | D17: =IF(B17="","",IF(CHOOSE(WEEKDAY(B17),"日","月","火","水","木","金","土")=$E$5,"○","")) | E17: 1 | F17: 2.5 | G17: 2 | H17: 2 | I17: 0.5 | J17: 2 | K17: =IF(SUM(E17:J17)=0,"",SUM(E17:J17)) -> 10
B18: =IF(MONTH(DATE(YEAR($E$4),MONTH($E$4),1)+5)=MONTH($E$4),DATE(YEAR($E$4),MONTH($E$4),1)+5,"") -> 46301 | C18: =IF(B18="","",IF(COUNTIF(祝日!$B$5:$B$60,B18)>0,"祝",CHOOSE(WEEKDAY(B18),"日","月","火","水","木","金","土"))) -> 火 | D18: =IF(B18="","",IF(CHOOSE(WEEKDAY(B18),"日","月","火","水","木","金","土")=$E$5,"○","")) | E18: 1 | F18: 2 | G18: 3.5 | H18: 1.5 | I18: 1 | J18: 1 | K18: =IF(SUM(E18:J18)=0,"",SUM(E18:J18)) -> 10
B19: =IF(MONTH(DATE(YEAR($E$4),MONTH($E$4),1)+6)=MONTH($E$4),DATE(YEAR($E$4),MONTH($E$4),1)+6,"") -> 46302 | C19: =IF(B19="","",IF(COUNTIF(祝日!$B$5:$B$60,B19)>0,"祝",CHOOSE(WEEKDAY(B19),"日","月","火","水","木","金","土"))) -> 水 | D19: =IF(B19="","",IF(CHOOSE(WEEKDAY(B19),"日","月","火","水","木","金","土")=$E$5,"○","")) | E19: 0.5 | F19: 1.5 | G19: 2.5 | H19: 3.5 | J19: 1.5 | K19: =IF(SUM(E19:J19)=0,"",SUM(E19:J19)) -> 9.5
B20: =IF(MONTH(DATE(YEAR($E$4),MONTH($E$4),1)+7)=MONTH($E$4),DATE(YEAR($E$4),MONTH($E$4),1)+7,"") -> 46303 | C20: =IF(B20="","",IF(COUNTIF(祝日!$B$5:$B$60,B20)>0,"祝",CHOOSE(WEEKDAY(B20),"日","月","火","水","木","金","土"))) -> 木 | D20: =IF(B20="","",IF(CHOOSE(WEEKDAY(B20),"日","月","火","水","木","金","土")=$E$5,"○","")) | E20: 1 | F20: 2 | G20: 3 | H20: 1.5 | J20: 1 | K20: =IF(SUM(E20:J20)=0,"",SUM(E20:J20)) -> 8.5
B21: =IF(MONTH(DATE(YEAR($E$4),MONTH($E$4),1)+8)=MONTH($E$4),DATE(YEAR($E$4),MONTH($E$4),1)+8,"") -> 46304 | C21: =IF(B21="","",IF(COUNTIF(祝日!$B$5:$B$60,B21)>0,"祝",CHOOSE(WEEKDAY(B21),"日","月","火","水","木","金","土"))) -> 金 | D21: =IF(B21="","",IF(CHOOSE(WEEKDAY(B21),"日","月","火","水","木","金","土")=$E$5,"○","")) | E21: 1 | F21: 2 | G21: 2.5 | H21: 3 | I21: 0.5 | J21: 1 | K21: =IF(SUM(E21:J21)=0,"",SUM(E21:J21)) -> 10
B22: =IF(MONTH(DATE(YEAR($E$4),MONTH($E$4),1)+9)=MONTH($E$4),DATE(YEAR($E$4),MONTH($E$4),1)+9,"") -> 46305 | C22: =IF(B22="","",IF(COUNTIF(祝日!$B$5:$B$60,B22)>0,"祝",CHOOSE(WEEKDAY(B22),"日","月","火","水","木","金","土"))) -> 土 | D22: =IF(B22="","",IF(CHOOSE(WEEKDAY(B22),"日","月","火","水","木","金","土")=$E$5,"○","")) | K22: =IF(SUM(E22:J22)=0,"",SUM(E22:J22))
B23: =IF(MONTH(DATE(YEAR($E$4),MONTH($E$4),1)+10)=MONTH($E$4),DATE(YEAR($E$4),MONTH($E$4),1)+10,"") -> 46306 | C23: =IF(B23="","",IF(COUNTIF(祝日!$B$5:$B$60,B23)>0,"祝",CHOOSE(WEEKDAY(B23),"日","月","火","水","木","金","土"))) -> 日 | D23: =IF(B23="","",IF(CHOOSE(WEEKDAY(B23),"日","月","火","水","木","金","土")=$E$5,"○","")) -> ○ | K23: =IF(SUM(E23:J23)=0,"",SUM(E23:J23))
B24: =IF(MONTH(DATE(YEAR($E$4),MONTH($E$4),1)+11)=MONTH($E$4),DATE(YEAR($E$4),MONTH($E$4),1)+11,"") -> 46307 | C24: =IF(B24="","",IF(COUNTIF(祝日!$B$5:$B$60,B24)>0,"祝",CHOOSE(WEEKDAY(B24),"日","月","火","水","木","金","土"))) -> 祝 | D24: =IF(B24="","",IF(CHOOSE(WEEKDAY(B24),"日","月","火","水","木","金","土")=$E$5,"○","")) | K24: =IF(SUM(E24:J24)=0,"",SUM(E24:J24))
B25: =IF(MONTH(DATE(YEAR($E$4),MONTH($E$4),1)+12)=MONTH($E$4),DATE(YEAR($E$4),MONTH($E$4),1)+12,"") -> 46308 | C25: =IF(B25="","",IF(COUNTIF(祝日!$B$5:$B$60,B25)>0,"祝",CHOOSE(WEEKDAY(B25),"日","月","火","水","木","金","土"))) -> 火 | D25: =IF(B25="","",IF(CHOOSE(WEEKDAY(B25),"日","月","火","水","木","金","土")=$E$5,"○","")) | E25: 1.5 | F25: 2 | G25: 2.5 | H25: 3 | I25: 0.5 | J25: 2 | K25: =IF(SUM(E25:J25)=0,"",SUM(E25:J25)) -> 11.5
B26: =IF(MONTH(DATE(YEAR($E$4),MONTH($E$4),1)+13)=MONTH($E$4),DATE(YEAR($E$4),MONTH($E$4),1)+13,"") -> 46309 | C26: =IF(B26="","",IF(COUNTIF(祝日!$B$5:$B$60,B26)>0,"祝",CHOOSE(WEEKDAY(B26),"日","月","火","水","木","金","土"))) -> 水 | D26: =IF(B26="","",IF(CHOOSE(WEEKDAY(B26),"日","月","火","水","木","金","土")=$E$5,"○","")) | E26: 1 | F26: 2 | G26: 3.5 | H26: 2 | I26: 0.5 | J26: 1.5 | K26: =IF(SUM(E26:J26)=0,"",SUM(E26:J26)) -> 10.5
B27: =IF(MONTH(DATE(YEAR($E$4),MONTH($E$4),1)+14)=MONTH($E$4),DATE(YEAR($E$4),MONTH($E$4),1)+14,"") -> 46310 | C27: =IF(B27="","",IF(COUNTIF(祝日!$B$5:$B$60,B27)>0,"祝",CHOOSE(WEEKDAY(B27),"日","月","火","水","木","金","土"))) -> 木 | D27: =IF(B27="","",IF(CHOOSE(WEEKDAY(B27),"日","月","火","水","木","金","土")=$E$5,"○","")) | E27: 0.5 | F27: 2 | G27: 2 | H27: 3 | I27: 1 | J27: 1.5 | K27: =IF(SUM(E27:J27)=0,"",SUM(E27:J27)) -> 10
B28: =IF(MONTH(DATE(YEAR($E$4),MONTH($E$4),1)+15)=MONTH($E$4),DATE(YEAR($E$4),MONTH($E$4),1)+15,"") -> 46311 | C28: =IF(B28="","",IF(COUNTIF(祝日!$B$5:$B$60,B28)>0,"祝",CHOOSE(WEEKDAY(B28),"日","月","火","水","木","金","土"))) -> 金 | D28: =IF(B28="","",IF(CHOOSE(WEEKDAY(B28),"日","月","火","水","木","金","土")=$E$5,"○","")) | E28: 1.5 | F28: 2 | G28: 3 | H28: 3 | I28: 0.5 | J28: 1 | K28: =IF(SUM(E28:J28)=0,"",SUM(E28:J28)) -> 11
B29: =IF(MONTH(DATE(YEAR($E$4),MONTH($E$4),1)+16)=MONTH($E$4),DATE(YEAR($E$4),MONTH($E$4),1)+16,"") -> 46312 | C29: =IF(B29="","",IF(COUNTIF(祝日!$B$5:$B$60,B29)>0,"祝",CHOOSE(WEEKDAY(B29),"日","月","火","水","木","金","土"))) -> 土 | D29: =IF(B29="","",IF(CHOOSE(WEEKDAY(B29),"日","月","火","水","木","金","土")=$E$5,"○","")) | G29: 4 | K29: =IF(SUM(E29:J29)=0,"",SUM(E29:J29)) -> 4
B30: =IF(MONTH(DATE(YEAR($E$4),MONTH($E$4),1)+17)=MONTH($E$4),DATE(YEAR($E$4),MONTH($E$4),1)+17,"") -> 46313 | C30: =IF(B30="","",IF(COUNTIF(祝日!$B$5:$B$60,B30)>0,"祝",CHOOSE(WEEKDAY(B30),"日","月","火","水","木","金","土"))) -> 日 | D30: =IF(B30="","",IF(CHOOSE(WEEKDAY(B30),"日","月","火","水","木","金","土")=$E$5,"○","")) -> ○ | H30: 6 | K30: =IF(SUM(E30:J30)=0,"",SUM(E30:J30)) -> 6
B31: =IF(MONTH(DATE(YEAR($E$4),MONTH($E$4),1)+18)=MONTH($E$4),DATE(YEAR($E$4),MONTH($E$4),1)+18,"") -> 46314 | C31: =IF(B31="","",IF(COUNTIF(祝日!$B$5:$B$60,B31)>0,"祝",CHOOSE(WEEKDAY(B31),"日","月","火","水","木","金","土"))) -> 月 | D31: =IF(B31="","",IF(CHOOSE(WEEKDAY(B31),"日","月","火","水","木","金","土")=$E$5,"○","")) | E31: 1.5 | F31: 2.5 | G31: 2.5 | H31: 3 | J31: 1.5 | K31: =IF(SUM(E31:J31)=0,"",SUM(E31:J31)) -> 11
B32: =IF(MONTH(DATE(YEAR($E$4),MONTH($E$4),1)+19)=MONTH($E$4),DATE(YEAR($E$4),MONTH($E$4),1)+19,"") -> 46315 | C32: =IF(B32="","",IF(COUNTIF(祝日!$B$5:$B$60,B32)>0,"祝",CHOOSE(WEEKDAY(B32),"日","月","火","水","木","金","土"))) -> 火 | D32: =IF(B32="","",IF(CHOOSE(WEEKDAY(B32),"日","月","火","水","木","金","土")=$E$5,"○","")) | E32: 1 | F32: 2.5 | G32: 3 | H32: 2 | I32: 0.5 | J32: 1.5 | K32: =IF(SUM(E32:J32)=0,"",SUM(E32:J32)) -> 10.5
B33: =IF(MONTH(DATE(YEAR($E$4),MONTH($E$4),1)+20)=MONTH($E$4),DATE(YEAR($E$4),MONTH($E$4),1)+20,"") -> 46316 | C33: =IF(B33="","",IF(COUNTIF(祝日!$B$5:$B$60,B33)>0,"祝",CHOOSE(WEEKDAY(B33),"日","月","火","水","木","金","土"))) -> 水 | D33: =IF(B33="","",IF(CHOOSE(WEEKDAY(B33),"日","月","火","水","木","金","土")=$E$5,"○","")) | E33: 0.5 | F33: 2 | G33: 2.5 | H33: 2 | J33: 1.5 | K33: =IF(SUM(E33:J33)=0,"",SUM(E33:J33)) -> 8.5
B34: =IF(MONTH(DATE(YEAR($E$4),MONTH($E$4),1)+21)=MONTH($E$4),DATE(YEAR($E$4),MONTH($E$4),1)+21,"") -> 46317 | C34: =IF(B34="","",IF(COUNTIF(祝日!$B$5:$B$60,B34)>0,"祝",CHOOSE(WEEKDAY(B34),"日","月","火","水","木","金","土"))) -> 木 | D34: =IF(B34="","",IF(CHOOSE(WEEKDAY(B34),"日","月","火","水","木","金","土")=$E$5,"○","")) | E34: 0.5 | F34: 1.5 | G34: 2.5 | H34: 3.5 | J34: 1 | K34: =IF(SUM(E34:J34)=0,"",SUM(E34:J34)) -> 9
B35: =IF(MONTH(DATE(YEAR($E$4),MONTH($E$4),1)+22)=MONTH($E$4),DATE(YEAR($E$4),MONTH($E$4),1)+22,"") -> 46318 | C35: =IF(B35="","",IF(COUNTIF(祝日!$B$5:$B$60,B35)>0,"祝",CHOOSE(WEEKDAY(B35),"日","月","火","水","木","金","土"))) -> 金 | D35: =IF(B35="","",IF(CHOOSE(WEEKDAY(B35),"日","月","火","水","木","金","土")=$E$5,"○","")) | E35: 1 | F35: 2.5 | G35: 3 | H35: 3.5 | I35: 0.5 | J35: 1 | K35: =IF(SUM(E35:J35)=0,"",SUM(E35:J35)) -> 11.5
B36: =IF(MONTH(DATE(YEAR($E$4),MONTH($E$4),1)+23)=MONTH($E$4),DATE(YEAR($E$4),MONTH($E$4),1)+23,"") -> 46319 | C36: =IF(B36="","",IF(COUNTIF(祝日!$B$5:$B$60,B36)>0,"祝",CHOOSE(WEEKDAY(B36),"日","月","火","水","木","金","土"))) -> 土 | D36: =IF(B36="","",IF(CHOOSE(WEEKDAY(B36),"日","月","火","水","木","金","土")=$E$5,"○","")) | K36: =IF(SUM(E36:J36)=0,"",SUM(E36:J36))
B37: =IF(MONTH(DATE(YEAR($E$4),MONTH($E$4),1)+24)=MONTH($E$4),DATE(YEAR($E$4),MONTH($E$4),1)+24,"") -> 46320 | C37: =IF(B37="","",IF(COUNTIF(祝日!$B$5:$B$60,B37)>0,"祝",CHOOSE(WEEKDAY(B37),"日","月","火","水","木","金","土"))) -> 日 | D37: =IF(B37="","",IF(CHOOSE(WEEKDAY(B37),"日","月","火","水","木","金","土")=$E$5,"○","")) -> ○ | K37: =IF(SUM(E37:J37)=0,"",SUM(E37:J37))
B38: =IF(MONTH(DATE(YEAR($E$4),MONTH($E$4),1)+25)=MONTH($E$4),DATE(YEAR($E$4),MONTH($E$4),1)+25,"") -> 46321 | C38: =IF(B38="","",IF(COUNTIF(祝日!$B$5:$B$60,B38)>0,"祝",CHOOSE(WEEKDAY(B38),"日","月","火","水","木","金","土"))) -> 月 | D38: =IF(B38="","",IF(CHOOSE(WEEKDAY(B38),"日","月","火","水","木","金","土")=$E$5,"○","")) | K38: =IF(SUM(E38:J38)=0,"",SUM(E38:J38))
B39: =IF(MONTH(DATE(YEAR($E$4),MONTH($E$4),1)+26)=MONTH($E$4),DATE(YEAR($E$4),MONTH($E$4),1)+26,"") -> 46322 | C39: =IF(B39="","",IF(COUNTIF(祝日!$B$5:$B$60,B39)>0,"祝",CHOOSE(WEEKDAY(B39),"日","月","火","水","木","金","土"))) -> 火 | D39: =IF(B39="","",IF(CHOOSE(WEEKDAY(B39),"日","月","火","水","木","金","土")=$E$5,"○","")) | K39: =IF(SUM(E39:J39)=0,"",SUM(E39:J39))
B40: =IF(MONTH(DATE(YEAR($E$4),MONTH($E$4),1)+27)=MONTH($E$4),DATE(YEAR($E$4),MONTH($E$4),1)+27,"") -> 46323 | C40: =IF(B40="","",IF(COUNTIF(祝日!$B$5:$B$60,B40)>0,"祝",CHOOSE(WEEKDAY(B40),"日","月","火","水","木","金","土"))) -> 水 | D40: =IF(B40="","",IF(CHOOSE(WEEKDAY(B40),"日","月","火","水","木","金","土")=$E$5,"○","")) | K40: =IF(SUM(E40:J40)=0,"",SUM(E40:J40))
B41: =IF(MONTH(DATE(YEAR($E$4),MONTH($E$4),1)+28)=MONTH($E$4),DATE(YEAR($E$4),MONTH($E$4),1)+28,"") -> 46324 | C41: =IF(B41="","",IF(COUNTIF(祝日!$B$5:$B$60,B41)>0,"祝",CHOOSE(WEEKDAY(B41),"日","月","火","水","木","金","土"))) -> 木 | D41: =IF(B41="","",IF(CHOOSE(WEEKDAY(B41),"日","月","火","水","木","金","土")=$E$5,"○","")) | K41: =IF(SUM(E41:J41)=0,"",SUM(E41:J41))
B42: =IF(MONTH(DATE(YEAR($E$4),MONTH($E$4),1)+29)=MONTH($E$4),DATE(YEAR($E$4),MONTH($E$4),1)+29,"") -> 46325 | C42: =IF(B42="","",IF(COUNTIF(祝日!$B$5:$B$60,B42)>0,"祝",CHOOSE(WEEKDAY(B42),"日","月","火","水","木","金","土"))) -> 金 | D42: =IF(B42="","",IF(CHOOSE(WEEKDAY(B42),"日","月","火","水","木","金","土")=$E$5,"○","")) | K42: =IF(SUM(E42:J42)=0,"",SUM(E42:J42))
...

Sheet 祝日
A1: 今すぐクリックして､無登録でゲット｡雛形の無料ダウンロード
B2: 祝日・休業日
B3: 曜日欄に「祝」と表示されます。会社の休業日は下の空欄に追加してください。
B4: 日付 | C4: 名称
B5: 46023 | C5: 元日
B6: 46034 | C6: 成人の日
B7: 46064 | C7: 建国記念の日
B8: 46076 | C8: 天皇誕生日
B9: 46101 | C9: 春分の日
B10: 46141 | C10: 昭和の日
B11: 46145 | C11: 憲法記念日
B12: 46146 | C12: みどりの日
B13: 46147 | C13: こどもの日
B14: 46148 | C14: 振替休日
B15: 46223 | C15: 海の日
B16: 46245 | C16: 山の日
... B39: 46714 | C39: 勤労感謝の日
